BEGIN:VCALENDAR
VERSION:2.0
PRODID:-//JOENSUUN KAMERASEURA ry - ECPv6.15.20//NONSGML v1.0//EN
CALSCALE:GREGORIAN
METHOD:PUBLISH
X-WR-CALNAME:JOENSUUN KAMERASEURA ry
X-ORIGINAL-URL:https://joensuunkameraseura.fi
X-WR-CALDESC:Tapahtumat JOENSUUN KAMERASEURA ry
REFRESH-INTERVAL;VALUE=DURATION:PT1H
X-Robots-Tag:noindex
X-PUBLISHED-TTL:PT1H
BEGIN:VTIMEZONE
TZID:Europe/Helsinki
BEGIN:DAYLIGHT
TZOFFSETFROM:+0200
TZOFFSETTO:+0300
TZNAME:EEST
DTSTART:20240331T010000
END:DAYLIGHT
BEGIN:STANDARD
TZOFFSETFROM:+0300
TZOFFSETTO:+0200
TZNAME:EET
DTSTART:20241027T010000
END:STANDARD
BEGIN:DAYLIGHT
TZOFFSETFROM:+0200
TZOFFSETTO:+0300
TZNAME:EEST
DTSTART:20250330T010000
END:DAYLIGHT
BEGIN:STANDARD
TZOFFSETFROM:+0300
TZOFFSETTO:+0200
TZNAME:EET
DTSTART:20251026T010000
END:STANDARD
BEGIN:DAYLIGHT
TZOFFSETFROM:+0200
TZOFFSETTO:+0300
TZNAME:EEST
DTSTART:20260329T010000
END:DAYLIGHT
BEGIN:STANDARD
TZOFFSETFROM:+0300
TZOFFSETTO:+0200
TZNAME:EET
DTSTART:20261025T010000
END:STANDARD
END:VTIMEZONE
BEGIN:VEVENT
DTSTART;TZID=Europe/Helsinki:20250312T173000
DTEND;TZID=Europe/Helsinki:20250312T193000
DTSTAMP:20260419T210740
CREATED:20241229T115508Z
LAST-MODIFIED:20250303T162450Z
UID:869-1741800600-1741807800@joensuunkameraseura.fi
SUMMARY:Vuosikokous
DESCRIPTION:Lämpimästi tervetuloa ke 12.3.2024 klo 17:30 Joensuun kameraseuran vuosikokoukseen. Vuosikokouksen jälkeen jatketaan jäsenillan merkeissä. \nTervetuloa!
URL:https://joensuunkameraseura.fi/event/kuukausitapaaminen-13/
LOCATION:Kansalaistalo Soroppi\, Torikatu 30\, Joensuu
END:VEVENT
BEGIN:VEVENT
DTSTART;TZID=Europe/Helsinki:20250315T140000
DTEND;TZID=Europe/Helsinki:20250315T180000
DTSTAMP:20260419T210740
CREATED:20250313T085504Z
LAST-MODIFIED:20250313T085504Z
UID:919-1742047200-1742061600@joensuunkameraseura.fi
SUMMARY:Makrokerho\, Botania
DESCRIPTION:Tervetuloa Makrokerhon Botania-retkeen. Tavataan klo 14 Botanialla.
URL:https://joensuunkameraseura.fi/event/makrokerho-botania/
LOCATION:Botania\, Heinäpurontie 70\, Joensuu\, 80110\, Finland
END:VEVENT
BEGIN:VEVENT
DTSTART;TZID=Europe/Helsinki:20250325T180000
DTEND;TZID=Europe/Helsinki:20250325T200000
DTSTAMP:20260419T210740
CREATED:20250303T162824Z
LAST-MODIFIED:20250303T162824Z
UID:913-1742925600-1742932800@joensuunkameraseura.fi
SUMMARY:Lauantaikävelyjen kuvailta
DESCRIPTION:Lauantaikävelyjen kuvailta järjestetään tiistaina 25.3.2025 klo.18:00 ja paikkana on ABC Marjalan kokoustila Karpalo. Valitse siis kuvailtaa varten noin kymmenen kuvaa vuoden 2024 lauantaikävelyiltä ja lataa ne kuvailtaa varten luotuun kansioon (latauslinkki sähköpostissa). Katsellaan kuvia porukalla ja muistellaan kävelyjen antia. \nHUOM! Kuvailtaan saa tulla vaikkei olisi kävelyissä mukana ollutkaan! Tervetuloa!
URL:https://joensuunkameraseura.fi/event/lauantaikavelyjen-kuvailta/
LOCATION:Marjalan ABC\, Marjalantie 18\, Joensuu\, 80140\, Finland
END:VEVENT
BEGIN:VEVENT
DTSTART;TZID=Europe/Helsinki:20250326T180000
DTEND;TZID=Europe/Helsinki:20250326T200000
DTSTAMP:20260419T210740
CREATED:20241229T115550Z
LAST-MODIFIED:20241229T115550Z
UID:871-1743012000-1743019200@joensuunkameraseura.fi
SUMMARY:Makrokerho
DESCRIPTION:
URL:https://joensuunkameraseura.fi/event/makrokerho-7/
LOCATION:Kansalaistalo Soroppi\, Torikatu 30\, Joensuu
END:VEVENT
BEGIN:VEVENT
DTSTART;TZID=Europe/Helsinki:20250327T173000
DTEND;TZID=Europe/Helsinki:20250327T190000
DTSTAMP:20260419T210740
CREATED:20250313T085215Z
LAST-MODIFIED:20250320T094826Z
UID:917-1743096600-1743102000@joensuunkameraseura.fi
SUMMARY:Näyttelykuvaajien kerho
DESCRIPTION:Teams-tapaaminen.
URL:https://joensuunkameraseura.fi/event/nayttelykuvaajien-kerho/
END:VEVENT
END:VCALENDAR