BEGIN:VCALENDAR
VERSION:2.0
PRODID:-//JOENSUUN KAMERASEURA ry - ECPv6.15.20//NONSGML v1.0//EN
CALSCALE:GREGORIAN
METHOD:PUBLISH
X-WR-CALNAME:JOENSUUN KAMERASEURA ry
X-ORIGINAL-URL:https://joensuunkameraseura.fi
X-WR-CALDESC:Tapahtumat JOENSUUN KAMERASEURA ry
REFRESH-INTERVAL;VALUE=DURATION:PT1H
X-Robots-Tag:noindex
X-PUBLISHED-TTL:PT1H
BEGIN:VTIMEZONE
TZID:Europe/Helsinki
BEGIN:DAYLIGHT
TZOFFSETFROM:+0200
TZOFFSETTO:+0300
TZNAME:EEST
DTSTART:20240331T010000
END:DAYLIGHT
BEGIN:STANDARD
TZOFFSETFROM:+0300
TZOFFSETTO:+0200
TZNAME:EET
DTSTART:20241027T010000
END:STANDARD
BEGIN:DAYLIGHT
TZOFFSETFROM:+0200
TZOFFSETTO:+0300
TZNAME:EEST
DTSTART:20250330T010000
END:DAYLIGHT
BEGIN:STANDARD
TZOFFSETFROM:+0300
TZOFFSETTO:+0200
TZNAME:EET
DTSTART:20251026T010000
END:STANDARD
BEGIN:DAYLIGHT
TZOFFSETFROM:+0200
TZOFFSETTO:+0300
TZNAME:EEST
DTSTART:20260329T010000
END:DAYLIGHT
BEGIN:STANDARD
TZOFFSETFROM:+0300
TZOFFSETTO:+0200
TZNAME:EET
DTSTART:20261025T010000
END:STANDARD
END:VTIMEZONE
BEGIN:VEVENT
DTSTART;TZID=Europe/Helsinki:20250212T173000
DTEND;TZID=Europe/Helsinki:20250212T193000
DTSTAMP:20260419T195102
CREATED:20241229T115347Z
LAST-MODIFIED:20241229T115347Z
UID:865-1739381400-1739388600@joensuunkameraseura.fi
SUMMARY:Kuukausitapaaminen
DESCRIPTION:
URL:https://joensuunkameraseura.fi/event/kuukausitapaaminen-12/
LOCATION:Kansalaistalo Soroppi\, Torikatu 30\, Joensuu
END:VEVENT
BEGIN:VEVENT
DTSTART;TZID=Europe/Helsinki:20250219T180000
DTEND;TZID=Europe/Helsinki:20250219T200000
DTSTAMP:20260419T195102
CREATED:20241229T115426Z
LAST-MODIFIED:20241229T115426Z
UID:867-1739988000-1739995200@joensuunkameraseura.fi
SUMMARY:Makrokerho
DESCRIPTION:
URL:https://joensuunkameraseura.fi/event/makrokerho-6/
LOCATION:Kansalaistalo Soroppi\, Torikatu 30\, Joensuu
END:VEVENT
BEGIN:VEVENT
DTSTART;TZID=Europe/Helsinki:20250222T120000
DTEND;TZID=Europe/Helsinki:20250222T150000
DTSTAMP:20260419T195102
CREATED:20250217T174811Z
LAST-MODIFIED:20250217T174811Z
UID:908-1740225600-1740236400@joensuunkameraseura.fi
SUMMARY:Lauantaikävely
DESCRIPTION:Helmikuun lauantaikävely suuntautuu Utransaareen.  \nKokoontuminen Utransaaren parkkipaikalla klo 12. \nTervetuloa!
URL:https://joensuunkameraseura.fi/event/lauantaikavely-6/
LOCATION:Utransaari\, Utrantie 88\, Joensuu\, 80170\, Finland
CATEGORIES:Lauantaikävely
END:VEVENT
END:VCALENDAR