BEGIN:VCALENDAR
VERSION:2.0
PRODID:-//JOENSUUN KAMERASEURA ry - ECPv6.15.17.1//NONSGML v1.0//EN
CALSCALE:GREGORIAN
METHOD:PUBLISH
X-ORIGINAL-URL:https://joensuunkameraseura.fi
X-WR-CALDESC:Tapahtumat JOENSUUN KAMERASEURA ry
REFRESH-INTERVAL;VALUE=DURATION:PT1H
X-Robots-Tag:noindex
X-PUBLISHED-TTL:PT1H
BEGIN:VTIMEZONE
TZID:Europe/Helsinki
BEGIN:DAYLIGHT
TZOFFSETFROM:+0200
TZOFFSETTO:+0300
TZNAME:EEST
DTSTART:20230326T010000
END:DAYLIGHT
BEGIN:STANDARD
TZOFFSETFROM:+0300
TZOFFSETTO:+0200
TZNAME:EET
DTSTART:20231029T010000
END:STANDARD
BEGIN:DAYLIGHT
TZOFFSETFROM:+0200
TZOFFSETTO:+0300
TZNAME:EEST
DTSTART:20240331T010000
END:DAYLIGHT
BEGIN:STANDARD
TZOFFSETFROM:+0300
TZOFFSETTO:+0200
TZNAME:EET
DTSTART:20241027T010000
END:STANDARD
BEGIN:DAYLIGHT
TZOFFSETFROM:+0200
TZOFFSETTO:+0300
TZNAME:EEST
DTSTART:20250330T010000
END:DAYLIGHT
BEGIN:STANDARD
TZOFFSETFROM:+0300
TZOFFSETTO:+0200
TZNAME:EET
DTSTART:20251026T010000
END:STANDARD
END:VTIMEZONE
BEGIN:VEVENT
DTSTART;TZID=Europe/Helsinki:20241211T173000
DTEND;TZID=Europe/Helsinki:20241211T193000
DTSTAMP:20260419T171104
CREATED:20240824T111214Z
LAST-MODIFIED:20240824T111214Z
UID:714-1733938200-1733945400@joensuunkameraseura.fi
SUMMARY:Kuukausitapaaminen
DESCRIPTION:
URL:https://joensuunkameraseura.fi/event/kuukausitapaaminen-10/
CATEGORIES:Tapaaminen
END:VEVENT
BEGIN:VEVENT
DTSTART;TZID=Europe/Helsinki:20241212T180000
DTEND;TZID=Europe/Helsinki:20241212T200000
DTSTAMP:20260419T171104
CREATED:20241206T121449Z
LAST-MODIFIED:20241206T121449Z
UID:802-1734026400-1734033600@joensuunkameraseura.fi
SUMMARY:Makrokerho
DESCRIPTION:Tervetuloa vuoden viimeiseen makrokerhoon!
URL:https://joensuunkameraseura.fi/event/makrokerho-4/
LOCATION:Torikievari\, Suvantokatu 6\, Joensuu\, 80100\, Finland
END:VEVENT
BEGIN:VEVENT
DTSTART;TZID=Europe/Helsinki:20241214T120000
DTEND;TZID=Europe/Helsinki:20241214T150000
DTSTAMP:20260419T171104
CREATED:20241206T121621Z
LAST-MODIFIED:20241206T121621Z
UID:804-1734177600-1734188400@joensuunkameraseura.fi
SUMMARY:Lauantaikävely
DESCRIPTION:Lauantaina 14.12.2024 on Kameraseuran vuoden viimeinen lauantaikävely. Kokoontuminen klo 12:00 satamassa Pakkahuoneen parkkipaikalla. \nKuvaillaan jokimaisemaa\, puukorttelia\, toria ja käydään pullakahvilla kauppahallissa! Tervetuloa mukaan! 
URL:https://joensuunkameraseura.fi/event/lauantaikavely-4/
END:VEVENT
END:VCALENDAR