BEGIN:VCALENDAR
VERSION:2.0
PRODID:-//JOENSUUN KAMERASEURA ry - ECPv6.15.20//NONSGML v1.0//EN
CALSCALE:GREGORIAN
METHOD:PUBLISH
X-ORIGINAL-URL:https://joensuunkameraseura.fi
X-WR-CALDESC:Tapahtumat JOENSUUN KAMERASEURA ry
REFRESH-INTERVAL;VALUE=DURATION:PT1H
X-Robots-Tag:noindex
X-PUBLISHED-TTL:PT1H
BEGIN:VTIMEZONE
TZID:Europe/Helsinki
BEGIN:DAYLIGHT
TZOFFSETFROM:+0200
TZOFFSETTO:+0300
TZNAME:EEST
DTSTART:20230326T010000
END:DAYLIGHT
BEGIN:STANDARD
TZOFFSETFROM:+0300
TZOFFSETTO:+0200
TZNAME:EET
DTSTART:20231029T010000
END:STANDARD
BEGIN:DAYLIGHT
TZOFFSETFROM:+0200
TZOFFSETTO:+0300
TZNAME:EEST
DTSTART:20240331T010000
END:DAYLIGHT
BEGIN:STANDARD
TZOFFSETFROM:+0300
TZOFFSETTO:+0200
TZNAME:EET
DTSTART:20241027T010000
END:STANDARD
BEGIN:DAYLIGHT
TZOFFSETFROM:+0200
TZOFFSETTO:+0300
TZNAME:EEST
DTSTART:20250330T010000
END:DAYLIGHT
BEGIN:STANDARD
TZOFFSETFROM:+0300
TZOFFSETTO:+0200
TZNAME:EET
DTSTART:20251026T010000
END:STANDARD
END:VTIMEZONE
BEGIN:VEVENT
DTSTART;TZID=Europe/Helsinki:20241109T120000
DTEND;TZID=Europe/Helsinki:20241109T150000
DTSTAMP:20260419T183420
CREATED:20241103T074021Z
LAST-MODIFIED:20241103T074021Z
UID:784-1731153600-1731164400@joensuunkameraseura.fi
SUMMARY:Lauantaikävely
DESCRIPTION:Lauantaikävelyt jatkuvat taas lauantaina 9.11.2024 jolloin kokoonnumme Honkaniemen uimarannan (Vainoniementie 7) parkkipaikalle klo.12:00. \nPääsemme kuvaamaan alkutalvea Pyhäselän rannoilla ja Siilaisen ympäristössä. \nKävelyn jälkeen jo perinteinen pullakahvittelu! \nTervetuloa!
URL:https://joensuunkameraseura.fi/event/lauantaikavely-3/
LOCATION:Honkaniemen uimaranta\, Vainoniementie 7\, Joensuu\, 80110\, Finland
END:VEVENT
BEGIN:VEVENT
DTSTART;TZID=Europe/Helsinki:20241113T173000
DTEND;TZID=Europe/Helsinki:20241113T193000
DTSTAMP:20260419T183420
CREATED:20240824T111116Z
LAST-MODIFIED:20240824T111116Z
UID:712-1731519000-1731526200@joensuunkameraseura.fi
SUMMARY:Kuukausitapaaminen
DESCRIPTION:
URL:https://joensuunkameraseura.fi/event/kuukausitapaaminen-9/
CATEGORIES:Tapaaminen
END:VEVENT
BEGIN:VEVENT
DTSTART;TZID=Europe/Helsinki:20241127T180000
DTEND;TZID=Europe/Helsinki:20241127T200000
DTSTAMP:20260419T183420
CREATED:20241116T122241Z
LAST-MODIFIED:20241116T122241Z
UID:793-1732730400-1732737600@joensuunkameraseura.fi
SUMMARY:Makrokerho
DESCRIPTION:Marraskuun aiheena valaisu! Ihmetellään laitteistoja ja opetellaan valon käyttöä makroilussa. Voit ottaa omat salamakamppeet mukaan. \nTervetuloa!
URL:https://joensuunkameraseura.fi/event/makrokerho-3/
LOCATION:Torikievari\, Suvantokatu 6\, Joensuu\, 80100\, Finland
END:VEVENT
BEGIN:VEVENT
DTSTART;VALUE=DATE:20241130
DTEND;VALUE=DATE:20241201
DTSTAMP:20260419T183420
CREATED:20241116T122904Z
LAST-MODIFIED:20241116T123024Z
UID:798-1732924800-1733011199@joensuunkameraseura.fi
SUMMARY:FotoMaraton 2024\, kilpailukuvien viimeinen latauspäivä
DESCRIPTION:Muista ladata FotoMaraton 2024 kuvasi sähköpostilla saamasi linkin kautta!
URL:https://joensuunkameraseura.fi/event/fotomaratonin-viimeinen-latauspaiva/
END:VEVENT
END:VCALENDAR