BEGIN:VCALENDAR
VERSION:2.0
PRODID:-//JOENSUUN KAMERASEURA ry - ECPv6.15.20//NONSGML v1.0//EN
CALSCALE:GREGORIAN
METHOD:PUBLISH
X-ORIGINAL-URL:https://joensuunkameraseura.fi
X-WR-CALDESC:Tapahtumat JOENSUUN KAMERASEURA ry
REFRESH-INTERVAL;VALUE=DURATION:PT1H
X-Robots-Tag:noindex
X-PUBLISHED-TTL:PT1H
BEGIN:VTIMEZONE
TZID:Europe/Helsinki
BEGIN:DAYLIGHT
TZOFFSETFROM:+0200
TZOFFSETTO:+0300
TZNAME:EEST
DTSTART:20230326T010000
END:DAYLIGHT
BEGIN:STANDARD
TZOFFSETFROM:+0300
TZOFFSETTO:+0200
TZNAME:EET
DTSTART:20231029T010000
END:STANDARD
BEGIN:DAYLIGHT
TZOFFSETFROM:+0200
TZOFFSETTO:+0300
TZNAME:EEST
DTSTART:20240331T010000
END:DAYLIGHT
BEGIN:STANDARD
TZOFFSETFROM:+0300
TZOFFSETTO:+0200
TZNAME:EET
DTSTART:20241027T010000
END:STANDARD
BEGIN:DAYLIGHT
TZOFFSETFROM:+0200
TZOFFSETTO:+0300
TZNAME:EEST
DTSTART:20250330T010000
END:DAYLIGHT
BEGIN:STANDARD
TZOFFSETFROM:+0300
TZOFFSETTO:+0200
TZNAME:EET
DTSTART:20251026T010000
END:STANDARD
END:VTIMEZONE
BEGIN:VEVENT
DTSTART;VALUE=DATE:20240226
DTEND;VALUE=DATE:20240316
DTSTAMP:20260420T045045
CREATED:20231114T164018Z
LAST-MODIFIED:20240314T164157Z
UID:311-1708905600-1710547199@joensuunkameraseura.fi
SUMMARY:Kevätnäyttely ”Kuurasta kukkaan” Lehmon kirjastossa
DESCRIPTION:Näyttelyn avajaiset maanantaina 26.2. klo 17\, lämpimästi tervetuloa!
URL:https://joensuunkameraseura.fi/event/kevatnayttely-kuurasta-kukkaan-lehmon-kirjastossa/
LOCATION:Lehmon kirjasto\, Kylmäojantie 49\, Lehmo\, Kontiolahti
END:VEVENT
BEGIN:VEVENT
DTSTART;TZID=Europe/Helsinki:20240312T170000
DTEND;TZID=Europe/Helsinki:20240312T190000
DTSTAMP:20260420T045045
CREATED:20240216T190637Z
LAST-MODIFIED:20240216T190637Z
UID:572-1710262800-1710270000@joensuunkameraseura.fi
SUMMARY:Makrokerhon kokoontuminen
DESCRIPTION:Tällä kertaa katsellaan jäsenten ottamia makro-/lähikuvia höyhenistä tai sulista. \n  \nJutustelua ja kuvausvinkkejä luvassa. \n  \nTervetuloa!
URL:https://joensuunkameraseura.fi/event/makrokerhon-kokoontuminen/
LOCATION:Opinpesä\, Joensuun pääkirjasto\, Koskikatu 25\, Joensuu
END:VEVENT
BEGIN:VEVENT
DTSTART;TZID=Europe/Helsinki:20240313T173000
DTEND;TZID=Europe/Helsinki:20240313T193000
DTSTAMP:20260420T045045
CREATED:20231114T164110Z
LAST-MODIFIED:20231114T164110Z
UID:314-1710351000-1710358200@joensuunkameraseura.fi
SUMMARY:Vuosikokous ja kuukausitapaaminen
DESCRIPTION:
URL:https://joensuunkameraseura.fi/event/vuosikokous-ja-kuukausitapaaminen/
LOCATION:Kansalaistalo Soroppi\, Torikatu 30\, Joensuu
END:VEVENT
BEGIN:VEVENT
DTSTART;TZID=Europe/Helsinki:20240316T110000
DTEND;TZID=Europe/Helsinki:20240316T130000
DTSTAMP:20260420T045045
CREATED:20240308T060051Z
LAST-MODIFIED:20240312T075141Z
UID:592-1710586800-1710594000@joensuunkameraseura.fi
SUMMARY:Lauantaikävely
DESCRIPTION:Kokoontuminen Joensuun ev.lut kirkon parkkipaikalla (Papinkatu). Kävellään joen vartta Hasanniemeen ja Linnunlahden uimarannan kautta takaisin. \nTervetuloa mukaan!
URL:https://joensuunkameraseura.fi/event/lauantaikavely/
LOCATION:Evlut kirkon parkki\, Papinkatu 1b\, Joensuu\, 80100\, Suomi
END:VEVENT
BEGIN:VEVENT
DTSTART;VALUE=DATE:20240325
DTEND;VALUE=DATE:20240413
DTSTAMP:20260420T045045
CREATED:20231114T164246Z
LAST-MODIFIED:20240314T164358Z
UID:316-1711324800-1712966399@joensuunkameraseura.fi
SUMMARY:Kevätnäyttely ”Kuurasta kukkaan” Kontiolahden kirjastossa
DESCRIPTION:
URL:https://joensuunkameraseura.fi/event/kevatnayttely-kuurasta-kukkaan-kontiolahden-kirjastossa/
LOCATION:Kontiolahden kirjasto\, Puutarhatie 5\, Kontiolahti
END:VEVENT
END:VCALENDAR