BEGIN:VCALENDAR
VERSION:2.0
PRODID:-//JOENSUUN KAMERASEURA ry - ECPv6.15.20//NONSGML v1.0//EN
CALSCALE:GREGORIAN
METHOD:PUBLISH
X-WR-CALNAME:JOENSUUN KAMERASEURA ry
X-ORIGINAL-URL:https://joensuunkameraseura.fi
X-WR-CALDESC:Tapahtumat JOENSUUN KAMERASEURA ry
REFRESH-INTERVAL;VALUE=DURATION:PT1H
X-Robots-Tag:noindex
X-PUBLISHED-TTL:PT1H
BEGIN:VTIMEZONE
TZID:Europe/Helsinki
BEGIN:DAYLIGHT
TZOFFSETFROM:+0200
TZOFFSETTO:+0300
TZNAME:EEST
DTSTART:20240331T010000
END:DAYLIGHT
BEGIN:STANDARD
TZOFFSETFROM:+0300
TZOFFSETTO:+0200
TZNAME:EET
DTSTART:20241027T010000
END:STANDARD
BEGIN:DAYLIGHT
TZOFFSETFROM:+0200
TZOFFSETTO:+0300
TZNAME:EEST
DTSTART:20250330T010000
END:DAYLIGHT
BEGIN:STANDARD
TZOFFSETFROM:+0300
TZOFFSETTO:+0200
TZNAME:EET
DTSTART:20251026T010000
END:STANDARD
BEGIN:DAYLIGHT
TZOFFSETFROM:+0200
TZOFFSETTO:+0300
TZNAME:EEST
DTSTART:20260329T010000
END:DAYLIGHT
BEGIN:STANDARD
TZOFFSETFROM:+0300
TZOFFSETTO:+0200
TZNAME:EET
DTSTART:20261025T010000
END:STANDARD
END:VTIMEZONE
BEGIN:VEVENT
DTSTART;TZID=Europe/Helsinki:20250118T120000
DTEND;TZID=Europe/Helsinki:20250118T150000
DTSTAMP:20260419T194931
CREATED:20250115T202025Z
LAST-MODIFIED:20250115T202025Z
UID:900-1737201600-1737212400@joensuunkameraseura.fi
SUMMARY:Lauantaikävely
DESCRIPTION:Kokoonnutaan Marjalan ABC pihaan\, josta jatketaan kohti Marjalan kaupunginosaa. Ja kahvilla käydään kuten tapoihin kuuluu!
URL:https://joensuunkameraseura.fi/event/lauantaikavely-5/
LOCATION:Marjalan ABC\, Marjalantie 18\, Joensuu\, 80140\, Finland
CATEGORIES:Lauantaikävely
END:VEVENT
END:VCALENDAR