BEGIN:VCALENDAR
VERSION:2.0
PRODID:-//JOENSUUN KAMERASEURA ry - ECPv6.15.20//NONSGML v1.0//EN
CALSCALE:GREGORIAN
METHOD:PUBLISH
X-WR-CALNAME:JOENSUUN KAMERASEURA ry
X-ORIGINAL-URL:https://joensuunkameraseura.fi
X-WR-CALDESC:Tapahtumat JOENSUUN KAMERASEURA ry
REFRESH-INTERVAL;VALUE=DURATION:PT1H
X-Robots-Tag:noindex
X-PUBLISHED-TTL:PT1H
BEGIN:VTIMEZONE
TZID:Europe/Helsinki
BEGIN:DAYLIGHT
TZOFFSETFROM:+0200
TZOFFSETTO:+0300
TZNAME:EEST
DTSTART:20230326T010000
END:DAYLIGHT
BEGIN:STANDARD
TZOFFSETFROM:+0300
TZOFFSETTO:+0200
TZNAME:EET
DTSTART:20231029T010000
END:STANDARD
BEGIN:DAYLIGHT
TZOFFSETFROM:+0200
TZOFFSETTO:+0300
TZNAME:EEST
DTSTART:20240331T010000
END:DAYLIGHT
BEGIN:STANDARD
TZOFFSETFROM:+0300
TZOFFSETTO:+0200
TZNAME:EET
DTSTART:20241027T010000
END:STANDARD
BEGIN:DAYLIGHT
TZOFFSETFROM:+0200
TZOFFSETTO:+0300
TZNAME:EEST
DTSTART:20250330T010000
END:DAYLIGHT
BEGIN:STANDARD
TZOFFSETFROM:+0300
TZOFFSETTO:+0200
TZNAME:EET
DTSTART:20251026T010000
END:STANDARD
END:VTIMEZONE
BEGIN:VEVENT
DTSTART;TZID=Europe/Helsinki:20241012T080000
DTEND;TZID=Europe/Helsinki:20241012T180000
DTSTAMP:20260419T210515
CREATED:20240923T162828Z
LAST-MODIFIED:20240923T163511Z
UID:745-1728720000-1728756000@joensuunkameraseura.fi
SUMMARY:Syysretki Murtovaaran talomuseoon ja Nurmekseen
DESCRIPTION:Tervetuloa Joensuun kameraseuran syysretkelle Murtovaaran talomuseoon ja Nurmekseen. \nLähdemme aamulla klo 8 kimppakyydeillä (kokoontuminen Pötkän parkkipaikalla) kohti Murtovaaraa. Siellä meillä on aikaa ja mahdollisuus kuvata rauhassa sekä ulkona että museon sisätiloissa. Paluumatkalla pysähdymme kuvaamaan vanhaa Nurmesta. \nSitovat ilmoittautumiset 6.10. mennessä sähköpostilla tulleen linkin kautta.
URL:https://joensuunkameraseura.fi/event/syysretki-murtovaaran-talomuseoon-ja-nurmekseen/
LOCATION:Pötkän parkkipaikka\, Rantakatu 34\, Joensuu\, 80100\, Finland
CATEGORIES:Retki
END:VEVENT
END:VCALENDAR