BEGIN:VCALENDAR
VERSION:2.0
PRODID:-//JOENSUUN KAMERASEURA ry - ECPv6.15.20//NONSGML v1.0//EN
CALSCALE:GREGORIAN
METHOD:PUBLISH
X-ORIGINAL-URL:https://joensuunkameraseura.fi
X-WR-CALDESC:Tapahtumat JOENSUUN KAMERASEURA ry
REFRESH-INTERVAL;VALUE=DURATION:PT1H
X-Robots-Tag:noindex
X-PUBLISHED-TTL:PT1H
BEGIN:VTIMEZONE
TZID:Europe/Helsinki
BEGIN:DAYLIGHT
TZOFFSETFROM:+0200
TZOFFSETTO:+0300
TZNAME:EEST
DTSTART:20230326T010000
END:DAYLIGHT
BEGIN:STANDARD
TZOFFSETFROM:+0300
TZOFFSETTO:+0200
TZNAME:EET
DTSTART:20231029T010000
END:STANDARD
BEGIN:DAYLIGHT
TZOFFSETFROM:+0200
TZOFFSETTO:+0300
TZNAME:EEST
DTSTART:20240331T010000
END:DAYLIGHT
BEGIN:STANDARD
TZOFFSETFROM:+0300
TZOFFSETTO:+0200
TZNAME:EET
DTSTART:20241027T010000
END:STANDARD
BEGIN:DAYLIGHT
TZOFFSETFROM:+0200
TZOFFSETTO:+0300
TZNAME:EEST
DTSTART:20250330T010000
END:DAYLIGHT
BEGIN:STANDARD
TZOFFSETFROM:+0300
TZOFFSETTO:+0200
TZNAME:EET
DTSTART:20251026T010000
END:STANDARD
END:VTIMEZONE
BEGIN:VEVENT
DTSTART;TZID=Europe/Helsinki:20240921T110000
DTEND;TZID=Europe/Helsinki:20240921T150000
DTSTAMP:20260419T222605
CREATED:20240917T172647Z
LAST-MODIFIED:20240917T172647Z
UID:729-1726916400-1726930800@joensuunkameraseura.fi
SUMMARY:Lauantaikävely Repokalliolle
DESCRIPTION:Syyskauden lauantaikävelyt jatkuvat lauantaina 21.9.2024. Kohteena on Repokallio ja kokoonnumme Repokallion parkkipaikalle (käännyttyäsi Repokalliontielle ensimmäinen parkkipaikka oikealla) klo.11:00. Kuvaussession jälkeen voidaan perinteisesti käydä nauttimassa kahvit ja jälkipelit lähimmässä kahvilassa! \nTervetuloa isolla joukolla kuvaamaan ja nauttimaan syksyisestä viikonlopusta!
URL:https://joensuunkameraseura.fi/event/lauantaikavely-repokalliolle/
LOCATION:Repokallio\, Repokalliontie\, Joensuu\, 80230\, Finland
CATEGORIES:Lauantaikävely
END:VEVENT
END:VCALENDAR