BEGIN:VCALENDAR
VERSION:2.0
PRODID:-//JOENSUUN KAMERASEURA ry - ECPv6.15.20//NONSGML v1.0//EN
CALSCALE:GREGORIAN
METHOD:PUBLISH
X-ORIGINAL-URL:https://joensuunkameraseura.fi
X-WR-CALDESC:Tapahtumat JOENSUUN KAMERASEURA ry
REFRESH-INTERVAL;VALUE=DURATION:PT1H
X-Robots-Tag:noindex
X-PUBLISHED-TTL:PT1H
BEGIN:VTIMEZONE
TZID:Europe/Helsinki
BEGIN:DAYLIGHT
TZOFFSETFROM:+0200
TZOFFSETTO:+0300
TZNAME:EEST
DTSTART:20230326T010000
END:DAYLIGHT
BEGIN:STANDARD
TZOFFSETFROM:+0300
TZOFFSETTO:+0200
TZNAME:EET
DTSTART:20231029T010000
END:STANDARD
BEGIN:DAYLIGHT
TZOFFSETFROM:+0200
TZOFFSETTO:+0300
TZNAME:EEST
DTSTART:20240331T010000
END:DAYLIGHT
BEGIN:STANDARD
TZOFFSETFROM:+0300
TZOFFSETTO:+0200
TZNAME:EET
DTSTART:20241027T010000
END:STANDARD
BEGIN:DAYLIGHT
TZOFFSETFROM:+0200
TZOFFSETTO:+0300
TZNAME:EEST
DTSTART:20250330T010000
END:DAYLIGHT
BEGIN:STANDARD
TZOFFSETFROM:+0300
TZOFFSETTO:+0200
TZNAME:EET
DTSTART:20251026T010000
END:STANDARD
END:VTIMEZONE
BEGIN:VEVENT
DTSTART;TZID=Europe/Helsinki:20240525T080000
DTEND;TZID=Europe/Helsinki:20240525T180000
DTSTAMP:20260420T033709
CREATED:20240513T172200Z
LAST-MODIFIED:20240513T172200Z
UID:671-1716624000-1716660000@joensuunkameraseura.fi
SUMMARY:Kevätretki ja lauantaikävely Punkaharjulle
DESCRIPTION:Kameraseuralaiset tervetuloa kevätretkelle Punkaharjulle! \nTutustumme mm. metsämuseo Lustoon ja puulajipuistoon. \nIlmoittaudu mukaan sähköpostissa tulleen linkin kautta.
URL:https://joensuunkameraseura.fi/event/kevatretki-ja-lauantaikavely-punkaharjulle/
LOCATION:Punkaharju\, Punkaharju\, 58450\, Suomi
END:VEVENT
END:VCALENDAR