BEGIN:VCALENDAR
VERSION:2.0
PRODID:-//JOENSUUN KAMERASEURA ry - ECPv6.15.20//NONSGML v1.0//EN
CALSCALE:GREGORIAN
METHOD:PUBLISH
X-WR-CALNAME:JOENSUUN KAMERASEURA ry
X-ORIGINAL-URL:https://joensuunkameraseura.fi
X-WR-CALDESC:Tapahtumat JOENSUUN KAMERASEURA ry
REFRESH-INTERVAL;VALUE=DURATION:PT1H
X-Robots-Tag:noindex
X-PUBLISHED-TTL:PT1H
BEGIN:VTIMEZONE
TZID:Europe/Helsinki
BEGIN:DAYLIGHT
TZOFFSETFROM:+0200
TZOFFSETTO:+0300
TZNAME:EEST
DTSTART:20220327T010000
END:DAYLIGHT
BEGIN:STANDARD
TZOFFSETFROM:+0300
TZOFFSETTO:+0200
TZNAME:EET
DTSTART:20221030T010000
END:STANDARD
BEGIN:DAYLIGHT
TZOFFSETFROM:+0200
TZOFFSETTO:+0300
TZNAME:EEST
DTSTART:20230326T010000
END:DAYLIGHT
BEGIN:STANDARD
TZOFFSETFROM:+0300
TZOFFSETTO:+0200
TZNAME:EET
DTSTART:20231029T010000
END:STANDARD
BEGIN:DAYLIGHT
TZOFFSETFROM:+0200
TZOFFSETTO:+0300
TZNAME:EEST
DTSTART:20240331T010000
END:DAYLIGHT
BEGIN:STANDARD
TZOFFSETFROM:+0300
TZOFFSETTO:+0200
TZNAME:EET
DTSTART:20241027T010000
END:STANDARD
END:VTIMEZONE
BEGIN:VEVENT
DTSTART;TZID=Europe/Helsinki:20231122T170000
DTEND;TZID=Europe/Helsinki:20231122T183000
DTSTAMP:20260422T025528
CREATED:20231114T163059Z
LAST-MODIFIED:20231114T163059Z
UID:298-1700672400-1700677800@joensuunkameraseura.fi
SUMMARY:Makrokerho
DESCRIPTION:Kokoonnutaan Joensuun pääkirjaston asiakastila Opinpesään. Mikäli et pääse paikalle\, on tapaamiseen mahdollista osallistua etänä Teamsin välityksellä. Tarvittaessa pyydä linkki osoitteesta joensuunkameraseura (at) gmail.com.
URL:https://joensuunkameraseura.fi/event/makrokerho/
LOCATION:Opinpesä\, Joensuun pääkirjasto\, Koskikatu 25\, Joensuu
END:VEVENT
END:VCALENDAR