BEGIN:VCALENDAR
VERSION:2.0
PRODID:-//JOENSUUN KAMERASEURA ry - ECPv6.15.20//NONSGML v1.0//EN
CALSCALE:GREGORIAN
METHOD:PUBLISH
X-ORIGINAL-URL:https://joensuunkameraseura.fi/en
X-WR-CALDESC:Events for JOENSUUN KAMERASEURA ry
REFRESH-INTERVAL;VALUE=DURATION:PT1H
X-Robots-Tag:noindex
X-PUBLISHED-TTL:PT1H
BEGIN:VTIMEZONE
TZID:Europe/Helsinki
BEGIN:DAYLIGHT
TZOFFSETFROM:+0200
TZOFFSETTO:+0300
TZNAME:EEST
DTSTART:20240331T010000
END:DAYLIGHT
BEGIN:STANDARD
TZOFFSETFROM:+0300
TZOFFSETTO:+0200
TZNAME:EET
DTSTART:20241027T010000
END:STANDARD
BEGIN:DAYLIGHT
TZOFFSETFROM:+0200
TZOFFSETTO:+0300
TZNAME:EEST
DTSTART:20250330T010000
END:DAYLIGHT
BEGIN:STANDARD
TZOFFSETFROM:+0300
TZOFFSETTO:+0200
TZNAME:EET
DTSTART:20251026T010000
END:STANDARD
BEGIN:DAYLIGHT
TZOFFSETFROM:+0200
TZOFFSETTO:+0300
TZNAME:EEST
DTSTART:20260329T010000
END:DAYLIGHT
BEGIN:STANDARD
TZOFFSETFROM:+0300
TZOFFSETTO:+0200
TZNAME:EET
DTSTART:20261025T010000
END:STANDARD
END:VTIMEZONE
BEGIN:VEVENT
DTSTART;TZID=Europe/Helsinki:20250517T083000
DTEND;TZID=Europe/Helsinki:20250517T170000
DTSTAMP:20260420T053557
CREATED:20250504T141651Z
LAST-MODIFIED:20250504T141651Z
UID:976-1747470600-1747501200@joensuunkameraseura.fi
SUMMARY:Kevätretki Outokumpuun
DESCRIPTION:Joensuun Kameraseuran kevätretki Outokumpuun järjestetään lauantaina 17.5.2025. Ohjelmassa on kävelylenkki vanhoja rakennuksia kuvaten ja Outokummun taideyhdistyksen tarjoamat kahvit! Tervetuloa mukaan! \nIlmoittautuminen sähköpostissa tulleen linkin kautta.
URL:https://joensuunkameraseura.fi/en/event/kevatretki-outokumpuun/
END:VEVENT
END:VCALENDAR