BEGIN:VCALENDAR
VERSION:2.0
PRODID:-//JOENSUUN KAMERASEURA ry - ECPv6.15.20//NONSGML v1.0//EN
CALSCALE:GREGORIAN
METHOD:PUBLISH
X-WR-CALNAME:JOENSUUN KAMERASEURA ry
X-ORIGINAL-URL:https://joensuunkameraseura.fi/en
X-WR-CALDESC:Events for JOENSUUN KAMERASEURA ry
REFRESH-INTERVAL;VALUE=DURATION:PT1H
X-Robots-Tag:noindex
X-PUBLISHED-TTL:PT1H
BEGIN:VTIMEZONE
TZID:Europe/Helsinki
BEGIN:DAYLIGHT
TZOFFSETFROM:+0200
TZOFFSETTO:+0300
TZNAME:EEST
DTSTART:20230326T010000
END:DAYLIGHT
BEGIN:STANDARD
TZOFFSETFROM:+0300
TZOFFSETTO:+0200
TZNAME:EET
DTSTART:20231029T010000
END:STANDARD
BEGIN:DAYLIGHT
TZOFFSETFROM:+0200
TZOFFSETTO:+0300
TZNAME:EEST
DTSTART:20240331T010000
END:DAYLIGHT
BEGIN:STANDARD
TZOFFSETFROM:+0300
TZOFFSETTO:+0200
TZNAME:EET
DTSTART:20241027T010000
END:STANDARD
BEGIN:DAYLIGHT
TZOFFSETFROM:+0200
TZOFFSETTO:+0300
TZNAME:EEST
DTSTART:20250330T010000
END:DAYLIGHT
BEGIN:STANDARD
TZOFFSETFROM:+0300
TZOFFSETTO:+0200
TZNAME:EET
DTSTART:20251026T010000
END:STANDARD
END:VTIMEZONE
BEGIN:VEVENT
DTSTART;TZID=Europe/Helsinki:20241127T180000
DTEND;TZID=Europe/Helsinki:20241127T200000
DTSTAMP:20260419T195056
CREATED:20241116T122241Z
LAST-MODIFIED:20241116T122241Z
UID:793-1732730400-1732737600@joensuunkameraseura.fi
SUMMARY:Makrokerho
DESCRIPTION:Marraskuun aiheena valaisu! Ihmetellään laitteistoja ja opetellaan valon käyttöä makroilussa. Voit ottaa omat salamakamppeet mukaan. \nTervetuloa!
URL:https://joensuunkameraseura.fi/en/event/makrokerho-3/
LOCATION:Torikievari\, Suvantokatu 6\, Joensuu\, 80100\, Finland
END:VEVENT
END:VCALENDAR