BEGIN:VCALENDAR
VERSION:2.0
PRODID:-//JOENSUUN KAMERASEURA ry - ECPv6.15.20//NONSGML v1.0//EN
CALSCALE:GREGORIAN
METHOD:PUBLISH
X-ORIGINAL-URL:https://joensuunkameraseura.fi/en
X-WR-CALDESC:Events for JOENSUUN KAMERASEURA ry
REFRESH-INTERVAL;VALUE=DURATION:PT1H
X-Robots-Tag:noindex
X-PUBLISHED-TTL:PT1H
BEGIN:VTIMEZONE
TZID:Europe/Helsinki
BEGIN:DAYLIGHT
TZOFFSETFROM:+0200
TZOFFSETTO:+0300
TZNAME:EEST
DTSTART:20230326T010000
END:DAYLIGHT
BEGIN:STANDARD
TZOFFSETFROM:+0300
TZOFFSETTO:+0200
TZNAME:EET
DTSTART:20231029T010000
END:STANDARD
BEGIN:DAYLIGHT
TZOFFSETFROM:+0200
TZOFFSETTO:+0300
TZNAME:EEST
DTSTART:20240331T010000
END:DAYLIGHT
BEGIN:STANDARD
TZOFFSETFROM:+0300
TZOFFSETTO:+0200
TZNAME:EET
DTSTART:20241027T010000
END:STANDARD
BEGIN:DAYLIGHT
TZOFFSETFROM:+0200
TZOFFSETTO:+0300
TZNAME:EEST
DTSTART:20250330T010000
END:DAYLIGHT
BEGIN:STANDARD
TZOFFSETFROM:+0300
TZOFFSETTO:+0200
TZNAME:EET
DTSTART:20251026T010000
END:STANDARD
END:VTIMEZONE
BEGIN:VEVENT
DTSTART;VALUE=DATE:20240325
DTEND;VALUE=DATE:20240413
DTSTAMP:20260420T060407
CREATED:20231114T164246Z
LAST-MODIFIED:20240314T164358Z
UID:316-1711324800-1712966399@joensuunkameraseura.fi
SUMMARY:Kevätnäyttely ”Kuurasta kukkaan” Kontiolahden kirjastossa
DESCRIPTION:
URL:https://joensuunkameraseura.fi/en/event/kevatnayttely-kuurasta-kukkaan-kontiolahden-kirjastossa/
LOCATION:Kontiolahden kirjasto\, Puutarhatie 5\, Kontiolahti
END:VEVENT
BEGIN:VEVENT
DTSTART;VALUE=DATE:20240410
DTEND;VALUE=DATE:20240411
DTSTAMP:20260420T060407
CREATED:20240320T182750Z
LAST-MODIFIED:20240320T182750Z
UID:627-1712707200-1712793599@joensuunkameraseura.fi
SUMMARY:Kevätkisa-kuvien palautuksen määräaika
DESCRIPTION:Palauta Kevätkisa-kuvasi viimeistään tänään. \nLähetä kuvat sähköpostilla osoitteeseen jks.kilpailut (at) gmail.com\, laitathan viestin otsikoksi “KEVÄTKISA”. \nVoittaja julkistetaan toukokuun jäsenillassa.
URL:https://joensuunkameraseura.fi/en/event/kevatkisa-kuvien-palautuksen-maaraaika/
END:VEVENT
BEGIN:VEVENT
DTSTART;TZID=Europe/Helsinki:20240410T173000
DTEND;TZID=Europe/Helsinki:20240410T193000
DTSTAMP:20260420T060408
CREATED:20231114T164533Z
LAST-MODIFIED:20240405T171644Z
UID:319-1712770200-1712777400@joensuunkameraseura.fi
SUMMARY:Kuukausitapaaminen
DESCRIPTION:Lämpimästi tervetuloa jäseniltaan 10.4. klo17:30 Soroppiin. \nOhjelmassa mm. \nAjankohtaiset asiat\, esitys ja demonstraatio kennon puhdistamisesta ja jäsenkuvien katselua.
URL:https://joensuunkameraseura.fi/en/event/kuukausitapaaminen-5/
LOCATION:Kansalaistalo Soroppi\, Torikatu 30\, Joensuu
END:VEVENT
END:VCALENDAR