BEGIN:VCALENDAR
VERSION:2.0
PRODID:-//JOENSUUN KAMERASEURA ry - ECPv6.15.20//NONSGML v1.0//EN
CALSCALE:GREGORIAN
METHOD:PUBLISH
X-WR-CALNAME:JOENSUUN KAMERASEURA ry
X-ORIGINAL-URL:https://joensuunkameraseura.fi/en
X-WR-CALDESC:Events for JOENSUUN KAMERASEURA ry
REFRESH-INTERVAL;VALUE=DURATION:PT1H
X-Robots-Tag:noindex
X-PUBLISHED-TTL:PT1H
BEGIN:VTIMEZONE
TZID:Europe/Helsinki
BEGIN:DAYLIGHT
TZOFFSETFROM:+0200
TZOFFSETTO:+0300
TZNAME:EEST
DTSTART:20220327T010000
END:DAYLIGHT
BEGIN:STANDARD
TZOFFSETFROM:+0300
TZOFFSETTO:+0200
TZNAME:EET
DTSTART:20221030T010000
END:STANDARD
BEGIN:DAYLIGHT
TZOFFSETFROM:+0200
TZOFFSETTO:+0300
TZNAME:EEST
DTSTART:20230326T010000
END:DAYLIGHT
BEGIN:STANDARD
TZOFFSETFROM:+0300
TZOFFSETTO:+0200
TZNAME:EET
DTSTART:20231029T010000
END:STANDARD
BEGIN:DAYLIGHT
TZOFFSETFROM:+0200
TZOFFSETTO:+0300
TZNAME:EEST
DTSTART:20240331T010000
END:DAYLIGHT
BEGIN:STANDARD
TZOFFSETFROM:+0300
TZOFFSETTO:+0200
TZNAME:EET
DTSTART:20241027T010000
END:STANDARD
END:VTIMEZONE
BEGIN:VEVENT
DTSTART;TZID=Europe/Helsinki:20231217T170000
DTEND;TZID=Europe/Helsinki:20231217T190000
DTSTAMP:20260422T025605
CREATED:20231114T163718Z
LAST-MODIFIED:20231114T163718Z
UID:305-1702832400-1702839600@joensuunkameraseura.fi
SUMMARY:15th Finland International Digital Circuit 2023\, 1st Joensuu Salon
DESCRIPTION:Joensuun Kameraseura järjestää ensimmäisen Joensuu Salon -näyttelyn osana Finland International Digital Circuit -kilpailua. \nFinland International Digital Circuit – Suomen Kameraseurojen Liitto ry (sksl.fi)
URL:https://joensuunkameraseura.fi/en/event/15th-finland-international-digital-circuit-2023-1st-joensuu-salon/
LOCATION:Niskala\, Riverian kampus\, Niskakatu 17\, Joensuu
END:VEVENT
END:VCALENDAR